BEGIN:VCALENDAR
VERSION:2.0
PRODID:-//St. Francis In The Fields - ECPv6.15.20//NONSGML v1.0//EN
CALSCALE:GREGORIAN
METHOD:PUBLISH
X-WR-CALNAME:St. Francis In The Fields
X-ORIGINAL-URL:https://www.stfrancisinthefields.org
X-WR-CALDESC:Events for St. Francis In The Fields
REFRESH-INTERVAL;VALUE=DURATION:PT1H
X-Robots-Tag:noindex
X-PUBLISHED-TTL:PT1H
BEGIN:VTIMEZONE
TZID:America/Detroit
BEGIN:DAYLIGHT
TZOFFSETFROM:-0500
TZOFFSETTO:-0400
TZNAME:EDT
DTSTART:20250309T070000
END:DAYLIGHT
BEGIN:STANDARD
TZOFFSETFROM:-0400
TZOFFSETTO:-0500
TZNAME:EST
DTSTART:20251102T060000
END:STANDARD
BEGIN:DAYLIGHT
TZOFFSETFROM:-0500
TZOFFSETTO:-0400
TZNAME:EDT
DTSTART:20260308T070000
END:DAYLIGHT
BEGIN:STANDARD
TZOFFSETFROM:-0400
TZOFFSETTO:-0500
TZNAME:EST
DTSTART:20261101T060000
END:STANDARD
BEGIN:DAYLIGHT
TZOFFSETFROM:-0500
TZOFFSETTO:-0400
TZNAME:EDT
DTSTART:20270314T070000
END:DAYLIGHT
BEGIN:STANDARD
TZOFFSETFROM:-0400
TZOFFSETTO:-0500
TZNAME:EST
DTSTART:20271107T060000
END:STANDARD
END:VTIMEZONE
BEGIN:VEVENT
DTSTART;TZID=America/Detroit:20260128T183000
DTEND;TZID=America/Detroit:20260128T193000
DTSTAMP:20260426T000440
CREATED:20260120T143220Z
LAST-MODIFIED:20260312T160852Z
UID:10003629-1769625000-1769628600@www.stfrancisinthefields.org
SUMMARY:Children's Crossroads
DESCRIPTION:All children are invited to “Crossroads\,” our Wednesday night programming for our youngest disciples ages 3 through 5th grade! Join us on the Lower Level after Wednesday Night Dinner for an age-appropriate journey through faith\, Church traditions\, and sacred Scripture!
URL:https://www.stfrancisinthefields.org/events/childrens-crossroads/2026-01-28/
CATEGORIES:Children,Home Page Feature
ATTACH;FMTTYPE=image/png:https://www.stfrancisinthefields.org/wp-content/uploads/2026/01/Crossroads-Website.png
END:VEVENT
BEGIN:VEVENT
DTSTART;TZID=America/Detroit:20260128T183000
DTEND;TZID=America/Detroit:20260128T193000
DTSTAMP:20260426T000440
CREATED:20251210T205131Z
LAST-MODIFIED:20251211T162316Z
UID:10003532-1769625000-1769628600@www.stfrancisinthefields.org
SUMMARY:How to Read the Bible
DESCRIPTION:Have you ever wanted to get more out of Bible study? Do you want to read the Bible\, but feel lost by what you’re reading? Join us for a Wednesday Night crash course designed to help you fall in love with Holy Scripture! We’ll look at what it means to read Scripture within the Great Tradition\, and discuss practical tools and steps to help you get the most out of your time spent in God’s word.
URL:https://www.stfrancisinthefields.org/events/how-to-read-the-bible/2026-01-28/
CATEGORIES:Formation,Home Page Feature
ATTACH;FMTTYPE=image/png:https://www.stfrancisinthefields.org/wp-content/uploads/2025/12/1-7-25-How-to-Read-the-Bible-Website.png
END:VEVENT
BEGIN:VEVENT
DTSTART;TZID=America/Detroit:20260128T174500
DTEND;TZID=America/Detroit:20260128T193000
DTSTAMP:20260426T000440
CREATED:20251009T194548Z
LAST-MODIFIED:20260319T135036Z
UID:10003432-1769622300-1769628600@www.stfrancisinthefields.org
SUMMARY:Youth Wednesday Night Bible Study
DESCRIPTION:Each Wednesday night during the program year\, our youth gather with the parish for our community Wednesday Night Dinner. They then break off into their own small group\, studying the same material as Essentials Small Group Experience. The evening begins at 5:45 p.m. in Graves Hall and concludes at 7:30 p.m.
URL:https://www.stfrancisinthefields.org/events/youth-wednesday-night-bible-study/2026-01-28/
CATEGORIES:Home Page Feature,Youth
ATTACH;FMTTYPE=image/png:https://www.stfrancisinthefields.org/wp-content/uploads/2025/10/12-27-25-A-Journey-through-Acts-Youth-Website.png
END:VEVENT
BEGIN:VEVENT
DTSTART;TZID=America/Detroit:20260128T174500
DTEND;TZID=America/Detroit:20260128T183000
DTSTAMP:20260426T000440
CREATED:20260106T150217Z
LAST-MODIFIED:20260106T150217Z
UID:10003585-1769622300-1769625000@www.stfrancisinthefields.org
SUMMARY:Wednesday Night Dinner - 1/28/26
DESCRIPTION:On Wednesday nights\, we gather in Graves Hall for a family-style meal before our educational offerings. All parishioners of all ages are welcome to join! Dinner lasts from 5:45 to 6:30 p.m.\, and costs $12 for adults and $7 for children and youth. \nRegistration and payment are a must! Please sign up and pay by clicking here. \nThe menu for January 28 will feature the following: \n– Penne pasta \n– Chicken alfredo \n– Beef Bolognese \n– Roasted vegetables \n– Garlic bread \n– Salad \n– Dessert \n*All dinners have gluten-free options included or available upon request.
URL:https://www.stfrancisinthefields.org/events/wednesday-night-dinner-1-28-26/
CATEGORIES:Formation,Home Page Feature
ATTACH;FMTTYPE=image/png:https://www.stfrancisinthefields.org/wp-content/uploads/2024/07/Wednesday-Night-Dinners-Logo-Wide.png
END:VEVENT
BEGIN:VEVENT
DTSTART;TZID=America/Detroit:20260127T093000
DTEND;TZID=America/Detroit:20260127T113000
DTSTAMP:20260426T000440
CREATED:20251218T172632Z
LAST-MODIFIED:20251218T172632Z
UID:10003538-1769506200-1769513400@www.stfrancisinthefields.org
SUMMARY:Tuesday Bible Study: Spring 2026
DESCRIPTION:The Gospel of John has captivated minds and hearts from the earliest days of the Church. It is a rich and challenging gospel that was “written that you may believe\,” and which has just as much resonance today as ever. This winter\, join us an exploration of the first half of this fascinating gospel during Tuesday Bible Study. Each session will include a one-hour lecture followed by optional small-group discussion. \nNew registrations welcome by clicking here! Those who participated in TBS this fall are already registered for winter 2026.
URL:https://www.stfrancisinthefields.org/events/tuesday-bible-study-spring-2026/2026-01-27/
CATEGORIES:Adult,Formation,Home Page Feature
ATTACH;FMTTYPE=image/png:https://www.stfrancisinthefields.org/wp-content/uploads/2025/12/1-27-25-Book-of-Signs-Website.png
END:VEVENT
BEGIN:VEVENT
DTSTART;TZID=America/Detroit:20260125T180000
DTEND;TZID=America/Detroit:20260125T193000
DTSTAMP:20260426T000440
CREATED:20251009T192925Z
LAST-MODIFIED:20260319T142143Z
UID:10003400-1769364000-1769369400@www.stfrancisinthefields.org
SUMMARY:Sunday Night Youth Group
DESCRIPTION:Each Sunday Night\, the Youth of St. Francis gather for a time of food and fellowship\, prayer\, and fun! We meet at the Vicarage at 6:00 for dinner. After we clean up\, we go to the chapel for prayer. We end the night with fun games and activities.
URL:https://www.stfrancisinthefields.org/events/sunday-night-youth-group/2026-01-25/
CATEGORIES:Home Page Feature,Youth
ATTACH;FMTTYPE=image/png:https://www.stfrancisinthefields.org/wp-content/uploads/2025/10/SNYG-Website.png
END:VEVENT
END:VCALENDAR