BEGIN:VCALENDAR
VERSION:2.0
PRODID:-//St. Francis In The Fields - ECPv6.15.20//NONSGML v1.0//EN
CALSCALE:GREGORIAN
METHOD:PUBLISH
X-WR-CALNAME:St. Francis In The Fields
X-ORIGINAL-URL:https://www.stfrancisinthefields.org
X-WR-CALDESC:Events for St. Francis In The Fields
REFRESH-INTERVAL;VALUE=DURATION:PT1H
X-Robots-Tag:noindex
X-PUBLISHED-TTL:PT1H
BEGIN:VTIMEZONE
TZID:America/Detroit
BEGIN:DAYLIGHT
TZOFFSETFROM:-0500
TZOFFSETTO:-0400
TZNAME:EDT
DTSTART:20250309T070000
END:DAYLIGHT
BEGIN:STANDARD
TZOFFSETFROM:-0400
TZOFFSETTO:-0500
TZNAME:EST
DTSTART:20251102T060000
END:STANDARD
BEGIN:DAYLIGHT
TZOFFSETFROM:-0500
TZOFFSETTO:-0400
TZNAME:EDT
DTSTART:20260308T070000
END:DAYLIGHT
BEGIN:STANDARD
TZOFFSETFROM:-0400
TZOFFSETTO:-0500
TZNAME:EST
DTSTART:20261101T060000
END:STANDARD
BEGIN:DAYLIGHT
TZOFFSETFROM:-0500
TZOFFSETTO:-0400
TZNAME:EDT
DTSTART:20270314T070000
END:DAYLIGHT
BEGIN:STANDARD
TZOFFSETFROM:-0400
TZOFFSETTO:-0500
TZNAME:EST
DTSTART:20271107T060000
END:STANDARD
END:VTIMEZONE
BEGIN:VEVENT
DTSTART;TZID=America/Detroit:20260125T101500
DTEND;TZID=America/Detroit:20260125T110000
DTSTAMP:20260423T173830
CREATED:20250911T150128Z
LAST-MODIFIED:20260416T133807Z
UID:10003335-1769336100-1769338800@www.stfrancisinthefields.org
SUMMARY:The Big Story
DESCRIPTION:This year in Sunday School\, our Middle Schoolers will walk through the whole Bible from start to finish. They will get to know God’s great story for all of creation and how they are a part of it! The Bible can be intimidating and overwhelming. By opening our Bibles each week and looking at each book from a 30\,000ft view\, we hope that the Bible will be less of “that really big book\,” and more of “my constant companion” and “the big story that is my story.” Join us in the Vicarage on Sunday mornings from 10:15 to 11:00 a.m.
URL:https://www.stfrancisinthefields.org/events/the-big-story/2026-01-25/
CATEGORIES:Home Page Feature,Youth
ATTACH;FMTTYPE=image/png:https://www.stfrancisinthefields.org/wp-content/uploads/2025/09/9-7-25-The-Big-Story-Website.png
END:VEVENT
BEGIN:VEVENT
DTSTART;TZID=America/Detroit:20260125T101500
DTEND;TZID=America/Detroit:20260125T110000
DTSTAMP:20260423T173830
CREATED:20250624T171716Z
LAST-MODIFIED:20260317T181716Z
UID:10003100-1769336100-1769338800@www.stfrancisinthefields.org
SUMMARY:Joyful Noise Singing School
DESCRIPTION:Joyful Noise Singing School\, a formation program for children aged 5-9\, will introduce children to signing basics\, encourage an early love of church music\, and help them build confidence by singing a monthly prelude. This class begins on September 7 at 10:15 a.m.\, and meets downstairs in Room 117. No audition or previous musical experience is required. \nRegister on Realm! For more information\, please contact Jessica Vanover at jessicav@sfitf.org.
URL:https://www.stfrancisinthefields.org/events/joyful-noise-singing-school/2026-01-25/
CATEGORIES:Children,Home Page Feature,Music Event
ATTACH;FMTTYPE=image/png:https://www.stfrancisinthefields.org/wp-content/uploads/2025/06/9-7-25-Joyful-Noise-Singing-School-Website.png
END:VEVENT
BEGIN:VEVENT
DTSTART;TZID=America/Detroit:20260124T074500
DTEND;TZID=America/Detroit:20260124T090000
DTSTAMP:20260423T173830
CREATED:20240411T145556Z
LAST-MODIFIED:20240411T145627Z
UID:10002181-1769240700-1769245200@www.stfrancisinthefields.org
SUMMARY:Brotherhood of St. Andrew Meeting
DESCRIPTION:The St. Francis chapter of the Brotherhood of St. Andrew (BOSA) is a men’s group that meets regularly on Saturday mornings for breakfast\, Bible study\, and fellowship. Meetings are open to guests and take place in Rooms 201/202. If you are interested in joining\, contact Chapter Chair John Groth or Treasurer Scott Calvert.
URL:https://www.stfrancisinthefields.org/events/brotherhood-of-st-andrew-meeting/2026-01-24/
CATEGORIES:Adult,Service
ATTACH;FMTTYPE=image/png:https://www.stfrancisinthefields.org/wp-content/uploads/2024/04/BOSA-Meetings-Website.png
END:VEVENT
END:VCALENDAR