BEGIN:VCALENDAR
VERSION:2.0
PRODID:-//St. Francis In The Fields - ECPv6.15.20//NONSGML v1.0//EN
CALSCALE:GREGORIAN
METHOD:PUBLISH
X-WR-CALNAME:St. Francis In The Fields
X-ORIGINAL-URL:https://www.stfrancisinthefields.org
X-WR-CALDESC:Events for St. Francis In The Fields
REFRESH-INTERVAL;VALUE=DURATION:PT1H
X-Robots-Tag:noindex
X-PUBLISHED-TTL:PT1H
BEGIN:VTIMEZONE
TZID:America/Detroit
BEGIN:DAYLIGHT
TZOFFSETFROM:-0500
TZOFFSETTO:-0400
TZNAME:EDT
DTSTART:20250309T070000
END:DAYLIGHT
BEGIN:STANDARD
TZOFFSETFROM:-0400
TZOFFSETTO:-0500
TZNAME:EST
DTSTART:20251102T060000
END:STANDARD
BEGIN:DAYLIGHT
TZOFFSETFROM:-0500
TZOFFSETTO:-0400
TZNAME:EDT
DTSTART:20260308T070000
END:DAYLIGHT
BEGIN:STANDARD
TZOFFSETFROM:-0400
TZOFFSETTO:-0500
TZNAME:EST
DTSTART:20261101T060000
END:STANDARD
BEGIN:DAYLIGHT
TZOFFSETFROM:-0500
TZOFFSETTO:-0400
TZNAME:EDT
DTSTART:20270314T070000
END:DAYLIGHT
BEGIN:STANDARD
TZOFFSETFROM:-0400
TZOFFSETTO:-0500
TZNAME:EST
DTSTART:20271107T060000
END:STANDARD
END:VTIMEZONE
BEGIN:VEVENT
DTSTART;TZID=America/Detroit:20260121T174500
DTEND;TZID=America/Detroit:20260121T193000
DTSTAMP:20260421T153937
CREATED:20251009T194548Z
LAST-MODIFIED:20260319T135036Z
UID:10003431-1769017500-1769023800@www.stfrancisinthefields.org
SUMMARY:Youth Wednesday Night Bible Study
DESCRIPTION:Each Wednesday night during the program year\, our youth gather with the parish for our community Wednesday Night Dinner. They then break off into their own small group\, studying the same material as Essentials Small Group Experience. The evening begins at 5:45 p.m. in Graves Hall and concludes at 7:30 p.m.
URL:https://www.stfrancisinthefields.org/events/youth-wednesday-night-bible-study/2026-01-21/
CATEGORIES:Home Page Feature,Youth
ATTACH;FMTTYPE=image/png:https://www.stfrancisinthefields.org/wp-content/uploads/2025/10/12-27-25-A-Journey-through-Acts-Youth-Website.png
END:VEVENT
BEGIN:VEVENT
DTSTART;TZID=America/Detroit:20260121T174500
DTEND;TZID=America/Detroit:20260121T183000
DTSTAMP:20260421T153937
CREATED:20260114T141619Z
LAST-MODIFIED:20260114T141619Z
UID:10003599-1769017500-1769020200@www.stfrancisinthefields.org
SUMMARY:Wednesday Night Dinner - 1/21/26
DESCRIPTION:On Wednesday nights\, we gather in Graves Hall for a family-style meal before our educational offerings. All parishioners of all ages are welcome to join! Dinner lasts from 5:45 to 6:30 p.m.\, and costs $12 for adults and $7 for children and youth. \nRegistration and payment are a must! Please sign up and pay by clicking here. \nThe menu for January 21 will feature the following: \n– Pulled pork \n– Southern style green beans \n– Mac and cheese \n– Salad \n*All dinners have gluten-free options included or available upon request.
URL:https://www.stfrancisinthefields.org/events/wednesday-night-dinner-1-21-26/
CATEGORIES:Formation,Home Page Feature
ATTACH;FMTTYPE=image/png:https://www.stfrancisinthefields.org/wp-content/uploads/2024/07/Wednesday-Night-Dinners-Logo-Wide.png
END:VEVENT
END:VCALENDAR