BEGIN:VCALENDAR
VERSION:2.0
PRODID:-//St. Francis In The Fields - ECPv6.15.20//NONSGML v1.0//EN
CALSCALE:GREGORIAN
METHOD:PUBLISH
X-WR-CALNAME:St. Francis In The Fields
X-ORIGINAL-URL:https://www.stfrancisinthefields.org
X-WR-CALDESC:Events for St. Francis In The Fields
REFRESH-INTERVAL;VALUE=DURATION:PT1H
X-Robots-Tag:noindex
X-PUBLISHED-TTL:PT1H
BEGIN:VTIMEZONE
TZID:America/Detroit
BEGIN:DAYLIGHT
TZOFFSETFROM:-0500
TZOFFSETTO:-0400
TZNAME:EDT
DTSTART:20250309T070000
END:DAYLIGHT
BEGIN:STANDARD
TZOFFSETFROM:-0400
TZOFFSETTO:-0500
TZNAME:EST
DTSTART:20251102T060000
END:STANDARD
BEGIN:DAYLIGHT
TZOFFSETFROM:-0500
TZOFFSETTO:-0400
TZNAME:EDT
DTSTART:20260308T070000
END:DAYLIGHT
BEGIN:STANDARD
TZOFFSETFROM:-0400
TZOFFSETTO:-0500
TZNAME:EST
DTSTART:20261101T060000
END:STANDARD
BEGIN:DAYLIGHT
TZOFFSETFROM:-0500
TZOFFSETTO:-0400
TZNAME:EDT
DTSTART:20270314T070000
END:DAYLIGHT
BEGIN:STANDARD
TZOFFSETFROM:-0400
TZOFFSETTO:-0500
TZNAME:EST
DTSTART:20271107T060000
END:STANDARD
END:VTIMEZONE
BEGIN:VEVENT
DTSTART;TZID=America/Detroit:20260201T163000
DTEND;TZID=America/Detroit:20260201T180000
DTSTAMP:20260422T155239
CREATED:20260108T200817Z
LAST-MODIFIED:20260129T152903Z
UID:10003594-1769963400-1769968800@www.stfrancisinthefields.org
SUMMARY:Candlemas Organ Recital\, Procession\, and Choral Evensong
DESCRIPTION:Our February organ recital and Choral Evensong will be Sunday\, February 1\, observing the Feast of the Presentation of Jesus in the Temple\, commonly known as Candlemas. Choral Evensong is preceded by the traditional Candlemas Procession with blessing of candles. The Parish Choir sings music of Byrd\, Near\, Shephard\, and Dearnley.
URL:https://www.stfrancisinthefields.org/events/candlemas-organ-recital-procession-and-choral-evensong/
CATEGORIES:Home Page Feature,Music Event,Worship
ATTACH;FMTTYPE=image/png:https://www.stfrancisinthefields.org/wp-content/uploads/2026/01/2-1-26-Candlemas-Evensong-Website-1.png
END:VEVENT
BEGIN:VEVENT
DTSTART;TZID=America/Detroit:20260208T101500
DTEND;TZID=America/Detroit:20260208T110000
DTSTAMP:20260422T155239
CREATED:20250624T171716Z
LAST-MODIFIED:20260317T181716Z
UID:10003102-1770545700-1770548400@www.stfrancisinthefields.org
SUMMARY:Joyful Noise Singing School
DESCRIPTION:Joyful Noise Singing School\, a formation program for children aged 5-9\, will introduce children to signing basics\, encourage an early love of church music\, and help them build confidence by singing a monthly prelude. This class begins on September 7 at 10:15 a.m.\, and meets downstairs in Room 117. No audition or previous musical experience is required. \nRegister on Realm! For more information\, please contact Jessica Vanover at jessicav@sfitf.org.
URL:https://www.stfrancisinthefields.org/events/joyful-noise-singing-school/2026-02-08/
CATEGORIES:Children,Home Page Feature,Music Event
ATTACH;FMTTYPE=image/png:https://www.stfrancisinthefields.org/wp-content/uploads/2025/06/9-7-25-Joyful-Noise-Singing-School-Website.png
END:VEVENT
BEGIN:VEVENT
DTSTART;TZID=America/Detroit:20260215T101500
DTEND;TZID=America/Detroit:20260215T110000
DTSTAMP:20260422T155239
CREATED:20250624T171716Z
LAST-MODIFIED:20260317T181716Z
UID:10003103-1771150500-1771153200@www.stfrancisinthefields.org
SUMMARY:Joyful Noise Singing School
DESCRIPTION:Joyful Noise Singing School\, a formation program for children aged 5-9\, will introduce children to signing basics\, encourage an early love of church music\, and help them build confidence by singing a monthly prelude. This class begins on September 7 at 10:15 a.m.\, and meets downstairs in Room 117. No audition or previous musical experience is required. \nRegister on Realm! For more information\, please contact Jessica Vanover at jessicav@sfitf.org.
URL:https://www.stfrancisinthefields.org/events/joyful-noise-singing-school/2026-02-15/
CATEGORIES:Children,Home Page Feature,Music Event
ATTACH;FMTTYPE=image/png:https://www.stfrancisinthefields.org/wp-content/uploads/2025/06/9-7-25-Joyful-Noise-Singing-School-Website.png
END:VEVENT
BEGIN:VEVENT
DTSTART;TZID=America/Detroit:20260222T101500
DTEND;TZID=America/Detroit:20260222T110000
DTSTAMP:20260422T155239
CREATED:20250624T171716Z
LAST-MODIFIED:20260317T181716Z
UID:10003104-1771755300-1771758000@www.stfrancisinthefields.org
SUMMARY:Joyful Noise Singing School
DESCRIPTION:Joyful Noise Singing School\, a formation program for children aged 5-9\, will introduce children to signing basics\, encourage an early love of church music\, and help them build confidence by singing a monthly prelude. This class begins on September 7 at 10:15 a.m.\, and meets downstairs in Room 117. No audition or previous musical experience is required. \nRegister on Realm! For more information\, please contact Jessica Vanover at jessicav@sfitf.org.
URL:https://www.stfrancisinthefields.org/events/joyful-noise-singing-school/2026-02-22/
CATEGORIES:Children,Home Page Feature,Music Event
ATTACH;FMTTYPE=image/png:https://www.stfrancisinthefields.org/wp-content/uploads/2025/06/9-7-25-Joyful-Noise-Singing-School-Website.png
END:VEVENT
END:VCALENDAR