BEGIN:VCALENDAR
VERSION:2.0
PRODID:-//St. Francis In The Fields - ECPv6.15.20//NONSGML v1.0//EN
CALSCALE:GREGORIAN
METHOD:PUBLISH
X-ORIGINAL-URL:https://www.stfrancisinthefields.org
X-WR-CALDESC:Events for St. Francis In The Fields
REFRESH-INTERVAL;VALUE=DURATION:PT1H
X-Robots-Tag:noindex
X-PUBLISHED-TTL:PT1H
BEGIN:VTIMEZONE
TZID:America/Detroit
BEGIN:DAYLIGHT
TZOFFSETFROM:-0500
TZOFFSETTO:-0400
TZNAME:EDT
DTSTART:20250309T070000
END:DAYLIGHT
BEGIN:STANDARD
TZOFFSETFROM:-0400
TZOFFSETTO:-0500
TZNAME:EST
DTSTART:20251102T060000
END:STANDARD
BEGIN:DAYLIGHT
TZOFFSETFROM:-0500
TZOFFSETTO:-0400
TZNAME:EDT
DTSTART:20260308T070000
END:DAYLIGHT
BEGIN:STANDARD
TZOFFSETFROM:-0400
TZOFFSETTO:-0500
TZNAME:EST
DTSTART:20261101T060000
END:STANDARD
BEGIN:DAYLIGHT
TZOFFSETFROM:-0500
TZOFFSETTO:-0400
TZNAME:EDT
DTSTART:20270314T070000
END:DAYLIGHT
BEGIN:STANDARD
TZOFFSETFROM:-0400
TZOFFSETTO:-0500
TZNAME:EST
DTSTART:20271107T060000
END:STANDARD
END:VTIMEZONE
BEGIN:VEVENT
DTSTART;TZID=America/Detroit:20260322T101500
DTEND;TZID=America/Detroit:20260322T110000
DTSTAMP:20260419T130644
CREATED:20250624T171716Z
LAST-MODIFIED:20260317T181716Z
UID:10003108-1774174500-1774177200@www.stfrancisinthefields.org
SUMMARY:Joyful Noise Singing School
DESCRIPTION:Joyful Noise Singing School\, a formation program for children aged 5-9\, will introduce children to signing basics\, encourage an early love of church music\, and help them build confidence by singing a monthly prelude. This class begins on September 7 at 10:15 a.m.\, and meets downstairs in Room 117. No audition or previous musical experience is required. \nRegister on Realm! For more information\, please contact Jessica Vanover at jessicav@sfitf.org.
URL:https://www.stfrancisinthefields.org/events/joyful-noise-singing-school/2026-03-22/
CATEGORIES:Children,Home Page Feature,Music Event
ATTACH;FMTTYPE=image/png:https://www.stfrancisinthefields.org/wp-content/uploads/2025/06/9-7-25-Joyful-Noise-Singing-School-Website.png
END:VEVENT
BEGIN:VEVENT
DTSTART;TZID=America/Detroit:20260322T101500
DTEND;TZID=America/Detroit:20260322T110000
DTSTAMP:20260419T130644
CREATED:20250911T150128Z
LAST-MODIFIED:20260416T133807Z
UID:10003343-1774174500-1774177200@www.stfrancisinthefields.org
SUMMARY:The Big Story
DESCRIPTION:This year in Sunday School\, our Middle Schoolers will walk through the whole Bible from start to finish. They will get to know God’s great story for all of creation and how they are a part of it! The Bible can be intimidating and overwhelming. By opening our Bibles each week and looking at each book from a 30\,000ft view\, we hope that the Bible will be less of “that really big book\,” and more of “my constant companion” and “the big story that is my story.” Join us in the Vicarage on Sunday mornings from 10:15 to 11:00 a.m.
URL:https://www.stfrancisinthefields.org/events/the-big-story/2026-03-22/
CATEGORIES:Home Page Feature,Youth
ATTACH;FMTTYPE=image/png:https://www.stfrancisinthefields.org/wp-content/uploads/2025/09/9-7-25-The-Big-Story-Website.png
END:VEVENT
BEGIN:VEVENT
DTSTART;TZID=America/Detroit:20260322T101500
DTEND;TZID=America/Detroit:20260322T110000
DTSTAMP:20260419T130644
CREATED:20251009T195636Z
LAST-MODIFIED:20260416T133709Z
UID:10003470-1774174500-1774177200@www.stfrancisinthefields.org
SUMMARY:Youth Confirmation
DESCRIPTION:Confirmation is the rite in which we express a mature commitment to Christ\, and receive strength from the Holy Spirit through prayer and the laying on of hands by a Bishop. At St. Francis in the Fields\, preparation for confirmation is open to all who are baptized and will at least in the 8th grade in the 2025-26 school year. If you would like to seek out confirmation\, we ask that you commit to a process of instruction and formation that includes a year-long confirmation class held during the Sunday school hour each week.
URL:https://www.stfrancisinthefields.org/events/youth-confirmation/2026-03-22/
CATEGORIES:Home Page Feature,Youth
ATTACH;FMTTYPE=image/png:https://www.stfrancisinthefields.org/wp-content/uploads/2025/10/9-7-25-Youth-Confirmation-2025-26-Website.png
END:VEVENT
BEGIN:VEVENT
DTSTART;TZID=America/Detroit:20260322T101500
DTEND;TZID=America/Detroit:20260322T110000
DTSTAMP:20260419T130644
CREATED:20251211T161221Z
LAST-MODIFIED:20260106T203523Z
UID:10003531-1774174500-1774177200@www.stfrancisinthefields.org
SUMMARY:Rector's Forum: Virtue and Vice
DESCRIPTION:What actually moves us—toward goodness or toward disordered desires? The Christian tradition understands virtues and vices not merely as “good habits” and “bad habits\,” but as expressions—healthy or disordered—of deeply human desires. In this seven-week Rector’s Forum\, we will explore the classic virtues and vices as a mirror held up to our own lives\, helping us better understand what makes us tick. \nFramed within the lifelong\, Spirit-empowered process of “Sanctification\,” this class will invite participants into deeper self-knowledge\, greater wisdom\, and a more peaceable way of life. By attending carefully to character\, habit\, and desire\, we will consider how God\, by grace\, turns us from vice toward virtue\, and forms us more fully into the likeness of Christ. \nThe class meets for seven weeks\, from February 8 through March 22\, and is open to all who desire to grow in spiritual maturity and intentional Christian living.
URL:https://www.stfrancisinthefields.org/events/rectors-forum-seven-deadly-sins/2026-03-22/
CATEGORIES:Formation,Home Page Feature
ATTACH;FMTTYPE=image/png:https://www.stfrancisinthefields.org/wp-content/uploads/2025/12/2-8-26-Virtue-and-Vice-Website.png
END:VEVENT
BEGIN:VEVENT
DTSTART;TZID=America/Detroit:20260322T101500
DTEND;TZID=America/Detroit:20260322T110000
DTSTAMP:20260419T130644
CREATED:20251218T174310Z
LAST-MODIFIED:20251218T174310Z
UID:10003562-1774174500-1774177200@www.stfrancisinthefields.org
SUMMARY:Rooted: Young Adult Ministry Small Group
DESCRIPTION:Join us this winter for Rooted: a Young Adult Small Group specifically for those in their 20s and 30s. We’ll meet on Sundays at 10:15 a.m.\, January 11 through March 22 in the Williamson Room (next to the elevator). \nWe’ll be exploring a Rule of Life—what it is\, how to thoughtfully build one\, and how it can grow with you through different seasons. Together\, we’ll reflect on spiritual rhythms that foster intentional living\, deeper faith\, and sustainable practices for everyday life. \nWhether you’re new to the concept or looking to refine your spiritual rhythms\, this group offers a welcoming space for conversation\, learning\, and growth. (And\, as an added bonus\, we’ll provide breakfast each week.)
URL:https://www.stfrancisinthefields.org/events/rooted-young-adult-ministry-small-group/2026-03-22/
CATEGORIES:Home Page Feature,Young Adult
ATTACH;FMTTYPE=image/png:https://www.stfrancisinthefields.org/wp-content/uploads/2025/12/1-11-25-YAM-Rooted-Website.png
END:VEVENT
BEGIN:VEVENT
DTSTART;TZID=America/Detroit:20260322T101500
DTEND;TZID=America/Detroit:20260322T110000
DTSTAMP:20260419T130644
CREATED:20260115T193641Z
LAST-MODIFIED:20260115T193641Z
UID:10003621-1774174500-1774177200@www.stfrancisinthefields.org
SUMMARY:Sacred Foundation: The St. Francis Catechumenate
DESCRIPTION:Are you interested in being Confirmed or Received into the Episcopal Church? Do you want to learn more about what our tradition believes? Join us for Sacred Foundation: The St. Francis Catechumenate. This six-week class for adults is the formation program required for those who are seeking to be Confirmed or Received\, and encouraged for anyone (new member or long-time parishioner!) who wants to learn more about what we believe\, and to dive deeper in their faith. The class will begin on March 1\, during the Sunday School hour\, and will run through April 19. Click here to sign up on Realm\, and contact Mthr. Barbara if you have questions or want more information. \nYou can sign up for free OR make a suggested donation of $10\, $20\, or $30 to offset the cost of books and materials. \nPlease note that class will NOT meet on Palm Sunday (March 29) or Easter Day (April 5).
URL:https://www.stfrancisinthefields.org/events/sacred-foundation-the-st-francis-catechumenate/2026-03-22/
CATEGORIES:Adult,Formation,Home Page Feature
ATTACH;FMTTYPE=image/png:https://www.stfrancisinthefields.org/wp-content/uploads/2026/01/3-1-26-Sacred-Foundation-Website.png
END:VEVENT
BEGIN:VEVENT
DTSTART;TZID=America/Detroit:20260322T101500
DTEND;TZID=America/Detroit:20260322T110000
DTSTAMP:20260419T130644
CREATED:20260226T182308Z
LAST-MODIFIED:20260226T182308Z
UID:10003695-1774174500-1774177200@www.stfrancisinthefields.org
SUMMARY:Spiritual Disciplines for High Schoolers
DESCRIPTION:Christian Tradition teaches us that certain physical practices can act as means of grace\, forming deep habits of holiness in life that then transform our hearts and souls. Over the course of three weeks in this Lenten season\, High Schoolers are invited to learn and explore some of these disciplines with Elizabeth Girardy and Margaret Brunner.
URL:https://www.stfrancisinthefields.org/events/spiritual-disciplines-for-high-schoolers/2026-03-22/
CATEGORIES:Home Page Feature,Youth
ATTACH;FMTTYPE=image/png:https://www.stfrancisinthefields.org/wp-content/uploads/2026/02/3-1-26-Spiritual-Disciplines-Website.png
END:VEVENT
BEGIN:VEVENT
DTSTART;TZID=America/Detroit:20260322T180000
DTEND;TZID=America/Detroit:20260322T193000
DTSTAMP:20260419T130644
CREATED:20260203T181856Z
LAST-MODIFIED:20260310T152738Z
UID:10003664-1774202400-1774207800@www.stfrancisinthefields.org
SUMMARY:Youth Board Game Night
DESCRIPTION:Come hang out on Sunday\, March 22\, as we gather for dinner\, prayer and a night of games around the Vicarage!
URL:https://www.stfrancisinthefields.org/events/youth-board-game-night-2/
CATEGORIES:Home Page Feature,Youth
ATTACH;FMTTYPE=image/png:https://www.stfrancisinthefields.org/wp-content/uploads/2026/02/3-22-26-Youth-Game-Night-Website.png
END:VEVENT
END:VCALENDAR