BEGIN:VCALENDAR
VERSION:2.0
PRODID:-//St. Francis In The Fields - ECPv6.15.20//NONSGML v1.0//EN
CALSCALE:GREGORIAN
METHOD:PUBLISH
X-WR-CALNAME:St. Francis In The Fields
X-ORIGINAL-URL:https://www.stfrancisinthefields.org
X-WR-CALDESC:Events for St. Francis In The Fields
REFRESH-INTERVAL;VALUE=DURATION:PT1H
X-Robots-Tag:noindex
X-PUBLISHED-TTL:PT1H
BEGIN:VTIMEZONE
TZID:America/Detroit
BEGIN:DAYLIGHT
TZOFFSETFROM:-0500
TZOFFSETTO:-0400
TZNAME:EDT
DTSTART:20250309T070000
END:DAYLIGHT
BEGIN:STANDARD
TZOFFSETFROM:-0400
TZOFFSETTO:-0500
TZNAME:EST
DTSTART:20251102T060000
END:STANDARD
BEGIN:DAYLIGHT
TZOFFSETFROM:-0500
TZOFFSETTO:-0400
TZNAME:EDT
DTSTART:20260308T070000
END:DAYLIGHT
BEGIN:STANDARD
TZOFFSETFROM:-0400
TZOFFSETTO:-0500
TZNAME:EST
DTSTART:20261101T060000
END:STANDARD
BEGIN:DAYLIGHT
TZOFFSETFROM:-0500
TZOFFSETTO:-0400
TZNAME:EDT
DTSTART:20270314T070000
END:DAYLIGHT
BEGIN:STANDARD
TZOFFSETFROM:-0400
TZOFFSETTO:-0500
TZNAME:EST
DTSTART:20271107T060000
END:STANDARD
END:VTIMEZONE
BEGIN:VEVENT
DTSTART;TZID=America/Detroit:20260313T170000
DTEND;TZID=America/Detroit:20260315T150000
DTSTAMP:20260420T234215
CREATED:20260120T190738Z
LAST-MODIFIED:20260120T190738Z
UID:10003649-1773421200-1773586800@www.stfrancisinthefields.org
SUMMARY:Beloved: A Youth Lenten Retreat
DESCRIPTION:From March 13 to 15\, our youth are headed up to Country Lake Christian Retreat Center\, located just north of Henryville\, IN\, where they will spend the weekend exploring what the Bible says about Love. Hint: God is Love\, and has called us his beloved. Our weekend will be packed with learning\, meditation\, games\, activities\, and a high ropes course! Between sessions of Bible study\, prayer\, and testimonies\, we will play games and grow together as a team. Did we mention there will be a high ropes course? This weekend will be a blast and will draw each of us into the knowledge and love of God. \nCost to attend is $140 per person. Register and pay on Realm by clicking here!
URL:https://www.stfrancisinthefields.org/events/beloved-a-youth-lenten-retreat/
CATEGORIES:Home Page Feature,Youth
ATTACH;FMTTYPE=image/png:https://www.stfrancisinthefields.org/wp-content/uploads/2026/01/3-13-26-Beloved-Retreat-Website.png
END:VEVENT
END:VCALENDAR