BEGIN:VCALENDAR
VERSION:2.0
PRODID:-//St. Francis In The Fields - ECPv6.15.20//NONSGML v1.0//EN
CALSCALE:GREGORIAN
METHOD:PUBLISH
X-ORIGINAL-URL:https://www.stfrancisinthefields.org
X-WR-CALDESC:Events for St. Francis In The Fields
REFRESH-INTERVAL;VALUE=DURATION:PT1H
X-Robots-Tag:noindex
X-PUBLISHED-TTL:PT1H
BEGIN:VTIMEZONE
TZID:America/Detroit
BEGIN:DAYLIGHT
TZOFFSETFROM:-0500
TZOFFSETTO:-0400
TZNAME:EDT
DTSTART:20250309T070000
END:DAYLIGHT
BEGIN:STANDARD
TZOFFSETFROM:-0400
TZOFFSETTO:-0500
TZNAME:EST
DTSTART:20251102T060000
END:STANDARD
BEGIN:DAYLIGHT
TZOFFSETFROM:-0500
TZOFFSETTO:-0400
TZNAME:EDT
DTSTART:20260308T070000
END:DAYLIGHT
BEGIN:STANDARD
TZOFFSETFROM:-0400
TZOFFSETTO:-0500
TZNAME:EST
DTSTART:20261101T060000
END:STANDARD
BEGIN:DAYLIGHT
TZOFFSETFROM:-0500
TZOFFSETTO:-0400
TZNAME:EDT
DTSTART:20270314T070000
END:DAYLIGHT
BEGIN:STANDARD
TZOFFSETFROM:-0400
TZOFFSETTO:-0500
TZNAME:EST
DTSTART:20271107T060000
END:STANDARD
END:VTIMEZONE
BEGIN:VEVENT
DTSTART;TZID=America/Detroit:20260201T100000
DTEND;TZID=America/Detroit:20260201T123000
DTSTAMP:20260425T164052
CREATED:20260102T181027Z
LAST-MODIFIED:20260201T153141Z
UID:10003567-1769940000-1769949000@www.stfrancisinthefields.org
SUMMARY:Annual Parish Meeting and Youth Sunday
DESCRIPTION:Financial Addendum\n					\n																														 \nOn February 1\, the Youth of St. Francis will take over all aspects available to lay people within our Sunday service of Holy Communion. We will have one combined service at 10:00 a.m. Come\, worship together and be served by youth on this special Sunday.\nThe Annual Parish Meeting will immediately follow worship and will be held in Graves Hall (at approximately 11:30 a.m.). This meeting provides parishioners from all four services an opportunity to come together to spend time reflecting on the goals and direction for our parish. There will be no adult discipleship or Sunday School on this day. There will\, however\, be activities downstairs for the children during the annual meeting. Come see the story 2025 told at St. Francis in the Fields and what 2026 has in store!
URL:https://www.stfrancisinthefields.org/events/annual-parish-meeting-and-youth-sunday/
CATEGORIES:Home Page Feature
ATTACH;FMTTYPE=image/png:https://www.stfrancisinthefields.org/wp-content/uploads/2026/01/2-1-26-APM-and-Youth-Sunday-Website.png
END:VEVENT
BEGIN:VEVENT
DTSTART;TZID=America/Detroit:20260201T101500
DTEND;TZID=America/Detroit:20260201T110000
DTSTAMP:20260425T164052
CREATED:20251218T174310Z
LAST-MODIFIED:20251218T174310Z
UID:10003555-1769940900-1769943600@www.stfrancisinthefields.org
SUMMARY:Rooted: Young Adult Ministry Small Group
DESCRIPTION:Join us this winter for Rooted: a Young Adult Small Group specifically for those in their 20s and 30s. We’ll meet on Sundays at 10:15 a.m.\, January 11 through March 22 in the Williamson Room (next to the elevator). \nWe’ll be exploring a Rule of Life—what it is\, how to thoughtfully build one\, and how it can grow with you through different seasons. Together\, we’ll reflect on spiritual rhythms that foster intentional living\, deeper faith\, and sustainable practices for everyday life. \nWhether you’re new to the concept or looking to refine your spiritual rhythms\, this group offers a welcoming space for conversation\, learning\, and growth. (And\, as an added bonus\, we’ll provide breakfast each week.)
URL:https://www.stfrancisinthefields.org/events/rooted-young-adult-ministry-small-group/2026-02-01/
CATEGORIES:Home Page Feature,Young Adult
ATTACH;FMTTYPE=image/png:https://www.stfrancisinthefields.org/wp-content/uploads/2025/12/1-11-25-YAM-Rooted-Website.png
END:VEVENT
BEGIN:VEVENT
DTSTART;TZID=America/Detroit:20260201T140000
DTEND;TZID=America/Detroit:20260201T160000
DTSTAMP:20260425T164052
CREATED:20260116T171555Z
LAST-MODIFIED:20260116T171616Z
UID:10003624-1769954400-1769961600@www.stfrancisinthefields.org
SUMMARY:Youth Bowling
DESCRIPTION:Join us for a night out! We will be going to a local bowling alley for two hours of bowling\, dinner\, and fun! Meet us at Ten Pin Strike and Spare Family Fun Center in St. Matthews from 2:00 to 4:00 p.m. Please register on Realm by January 18. The cost is $11 per person. Please bring additional money for dinner.
URL:https://www.stfrancisinthefields.org/events/youth-bowling/
CATEGORIES:Home Page Feature,Youth
ATTACH;FMTTYPE=image/png:https://www.stfrancisinthefields.org/wp-content/uploads/2026/01/2-1-26-Youth-Group-Bowling-Website-1.png
END:VEVENT
BEGIN:VEVENT
DTSTART;TZID=America/Detroit:20260201T163000
DTEND;TZID=America/Detroit:20260201T180000
DTSTAMP:20260425T164052
CREATED:20260108T200817Z
LAST-MODIFIED:20260129T152903Z
UID:10003594-1769963400-1769968800@www.stfrancisinthefields.org
SUMMARY:Candlemas Organ Recital\, Procession\, and Choral Evensong
DESCRIPTION:Our February organ recital and Choral Evensong will be Sunday\, February 1\, observing the Feast of the Presentation of Jesus in the Temple\, commonly known as Candlemas. Choral Evensong is preceded by the traditional Candlemas Procession with blessing of candles. The Parish Choir sings music of Byrd\, Near\, Shephard\, and Dearnley.
URL:https://www.stfrancisinthefields.org/events/candlemas-organ-recital-procession-and-choral-evensong/
CATEGORIES:Home Page Feature,Music Event,Worship
ATTACH;FMTTYPE=image/png:https://www.stfrancisinthefields.org/wp-content/uploads/2026/01/2-1-26-Candlemas-Evensong-Website-1.png
END:VEVENT
BEGIN:VEVENT
DTSTART;TZID=America/Detroit:20260201T180000
DTEND;TZID=America/Detroit:20260201T193000
DTSTAMP:20260425T164052
CREATED:20251009T192925Z
LAST-MODIFIED:20260319T142143Z
UID:10003401-1769968800-1769974200@www.stfrancisinthefields.org
SUMMARY:Sunday Night Youth Group
DESCRIPTION:Each Sunday Night\, the Youth of St. Francis gather for a time of food and fellowship\, prayer\, and fun! We meet at the Vicarage at 6:00 for dinner. After we clean up\, we go to the chapel for prayer. We end the night with fun games and activities.
URL:https://www.stfrancisinthefields.org/events/sunday-night-youth-group/2026-02-01/
CATEGORIES:Home Page Feature,Youth
ATTACH;FMTTYPE=image/png:https://www.stfrancisinthefields.org/wp-content/uploads/2025/10/SNYG-Website.png
END:VEVENT
END:VCALENDAR