BEGIN:VCALENDAR
VERSION:2.0
PRODID:-//St. Francis In The Fields - ECPv6.15.20//NONSGML v1.0//EN
CALSCALE:GREGORIAN
METHOD:PUBLISH
X-WR-CALNAME:St. Francis In The Fields
X-ORIGINAL-URL:https://www.stfrancisinthefields.org
X-WR-CALDESC:Events for St. Francis In The Fields
REFRESH-INTERVAL;VALUE=DURATION:PT1H
X-Robots-Tag:noindex
X-PUBLISHED-TTL:PT1H
BEGIN:VTIMEZONE
TZID:America/Detroit
BEGIN:DAYLIGHT
TZOFFSETFROM:-0500
TZOFFSETTO:-0400
TZNAME:EDT
DTSTART:20290311T070000
END:DAYLIGHT
BEGIN:STANDARD
TZOFFSETFROM:-0400
TZOFFSETTO:-0500
TZNAME:EST
DTSTART:20291104T060000
END:STANDARD
BEGIN:DAYLIGHT
TZOFFSETFROM:-0500
TZOFFSETTO:-0400
TZNAME:EDT
DTSTART:20300310T070000
END:DAYLIGHT
BEGIN:STANDARD
TZOFFSETFROM:-0400
TZOFFSETTO:-0500
TZNAME:EST
DTSTART:20301103T060000
END:STANDARD
BEGIN:DAYLIGHT
TZOFFSETFROM:-0500
TZOFFSETTO:-0400
TZNAME:EDT
DTSTART:20310309T070000
END:DAYLIGHT
BEGIN:STANDARD
TZOFFSETFROM:-0400
TZOFFSETTO:-0500
TZNAME:EST
DTSTART:20311102T060000
END:STANDARD
END:VTIMEZONE
BEGIN:VEVENT
DTSTART;TZID=America/Detroit:20301005T074500
DTEND;TZID=America/Detroit:20301005T090000
DTSTAMP:20260425T190755
CREATED:20240411T145556Z
LAST-MODIFIED:20240411T145627Z
UID:10003384-1917416700-1917421200@www.stfrancisinthefields.org
SUMMARY:Brotherhood of St. Andrew Meeting
DESCRIPTION:The St. Francis chapter of the Brotherhood of St. Andrew (BOSA) is a men’s group that meets regularly on Saturday mornings for breakfast\, Bible study\, and fellowship. Meetings are open to guests and take place in Rooms 201/202. If you are interested in joining\, contact Chapter Chair John Groth or Treasurer Scott Calvert.
URL:https://www.stfrancisinthefields.org/events/brotherhood-of-st-andrew-meeting/2030-10-05/
CATEGORIES:Adult,Service
ATTACH;FMTTYPE=image/png:https://www.stfrancisinthefields.org/wp-content/uploads/2024/04/BOSA-Meetings-Website.png
END:VEVENT
BEGIN:VEVENT
DTSTART;TZID=America/Detroit:20301012T074500
DTEND;TZID=America/Detroit:20301012T090000
DTSTAMP:20260425T190755
CREATED:20240411T145556Z
LAST-MODIFIED:20240411T145627Z
UID:10003478-1918021500-1918026000@www.stfrancisinthefields.org
SUMMARY:Brotherhood of St. Andrew Meeting
DESCRIPTION:The St. Francis chapter of the Brotherhood of St. Andrew (BOSA) is a men’s group that meets regularly on Saturday mornings for breakfast\, Bible study\, and fellowship. Meetings are open to guests and take place in Rooms 201/202. If you are interested in joining\, contact Chapter Chair John Groth or Treasurer Scott Calvert.
URL:https://www.stfrancisinthefields.org/events/brotherhood-of-st-andrew-meeting/2030-10-12/
CATEGORIES:Adult,Service
ATTACH;FMTTYPE=image/png:https://www.stfrancisinthefields.org/wp-content/uploads/2024/04/BOSA-Meetings-Website.png
END:VEVENT
BEGIN:VEVENT
DTSTART;TZID=America/Detroit:20301019T074500
DTEND;TZID=America/Detroit:20301019T090000
DTSTAMP:20260425T190755
CREATED:20240411T145556Z
LAST-MODIFIED:20240411T145627Z
UID:10003483-1918626300-1918630800@www.stfrancisinthefields.org
SUMMARY:Brotherhood of St. Andrew Meeting
DESCRIPTION:The St. Francis chapter of the Brotherhood of St. Andrew (BOSA) is a men’s group that meets regularly on Saturday mornings for breakfast\, Bible study\, and fellowship. Meetings are open to guests and take place in Rooms 201/202. If you are interested in joining\, contact Chapter Chair John Groth or Treasurer Scott Calvert.
URL:https://www.stfrancisinthefields.org/events/brotherhood-of-st-andrew-meeting/2030-10-19/
CATEGORIES:Adult,Service
ATTACH;FMTTYPE=image/png:https://www.stfrancisinthefields.org/wp-content/uploads/2024/04/BOSA-Meetings-Website.png
END:VEVENT
BEGIN:VEVENT
DTSTART;TZID=America/Detroit:20301026T074500
DTEND;TZID=America/Detroit:20301026T090000
DTSTAMP:20260425T190755
CREATED:20240411T145556Z
LAST-MODIFIED:20240411T145627Z
UID:10003493-1919231100-1919235600@www.stfrancisinthefields.org
SUMMARY:Brotherhood of St. Andrew Meeting
DESCRIPTION:The St. Francis chapter of the Brotherhood of St. Andrew (BOSA) is a men’s group that meets regularly on Saturday mornings for breakfast\, Bible study\, and fellowship. Meetings are open to guests and take place in Rooms 201/202. If you are interested in joining\, contact Chapter Chair John Groth or Treasurer Scott Calvert.
URL:https://www.stfrancisinthefields.org/events/brotherhood-of-st-andrew-meeting/2030-10-26/
CATEGORIES:Adult,Service
ATTACH;FMTTYPE=image/png:https://www.stfrancisinthefields.org/wp-content/uploads/2024/04/BOSA-Meetings-Website.png
END:VEVENT
END:VCALENDAR