BEGIN:VCALENDAR
VERSION:2.0
PRODID:-//St. Francis In The Fields - ECPv6.15.20//NONSGML v1.0//EN
CALSCALE:GREGORIAN
METHOD:PUBLISH
X-WR-CALNAME:St. Francis In The Fields
X-ORIGINAL-URL:https://www.stfrancisinthefields.org
X-WR-CALDESC:Events for St. Francis In The Fields
REFRESH-INTERVAL;VALUE=DURATION:PT1H
X-Robots-Tag:noindex
X-PUBLISHED-TTL:PT1H
BEGIN:VTIMEZONE
TZID:America/Detroit
BEGIN:DAYLIGHT
TZOFFSETFROM:-0500
TZOFFSETTO:-0400
TZNAME:EDT
DTSTART:20280312T070000
END:DAYLIGHT
BEGIN:STANDARD
TZOFFSETFROM:-0400
TZOFFSETTO:-0500
TZNAME:EST
DTSTART:20281105T060000
END:STANDARD
BEGIN:DAYLIGHT
TZOFFSETFROM:-0500
TZOFFSETTO:-0400
TZNAME:EDT
DTSTART:20290311T070000
END:DAYLIGHT
BEGIN:STANDARD
TZOFFSETFROM:-0400
TZOFFSETTO:-0500
TZNAME:EST
DTSTART:20291104T060000
END:STANDARD
BEGIN:DAYLIGHT
TZOFFSETFROM:-0500
TZOFFSETTO:-0400
TZNAME:EDT
DTSTART:20300310T070000
END:DAYLIGHT
BEGIN:STANDARD
TZOFFSETFROM:-0400
TZOFFSETTO:-0500
TZNAME:EST
DTSTART:20301103T060000
END:STANDARD
END:VTIMEZONE
BEGIN:VEVENT
DTSTART;TZID=America/Detroit:20290106T074500
DTEND;TZID=America/Detroit:20290106T090000
DTSTAMP:20260420T235812
CREATED:20240411T145556Z
LAST-MODIFIED:20240411T145627Z
UID:10002335-1862379900-1862384400@www.stfrancisinthefields.org
SUMMARY:Brotherhood of St. Andrew Meeting
DESCRIPTION:The St. Francis chapter of the Brotherhood of St. Andrew (BOSA) is a men’s group that meets regularly on Saturday mornings for breakfast\, Bible study\, and fellowship. Meetings are open to guests and take place in Rooms 201/202. If you are interested in joining\, contact Chapter Chair John Groth or Treasurer Scott Calvert.
URL:https://www.stfrancisinthefields.org/events/brotherhood-of-st-andrew-meeting/2029-01-06/
CATEGORIES:Adult,Service
ATTACH;FMTTYPE=image/png:https://www.stfrancisinthefields.org/wp-content/uploads/2024/04/BOSA-Meetings-Website.png
END:VEVENT
BEGIN:VEVENT
DTSTART;TZID=America/Detroit:20290113T074500
DTEND;TZID=America/Detroit:20290113T090000
DTSTAMP:20260420T235812
CREATED:20240411T145556Z
LAST-MODIFIED:20240411T145627Z
UID:10002336-1862984700-1862989200@www.stfrancisinthefields.org
SUMMARY:Brotherhood of St. Andrew Meeting
DESCRIPTION:The St. Francis chapter of the Brotherhood of St. Andrew (BOSA) is a men’s group that meets regularly on Saturday mornings for breakfast\, Bible study\, and fellowship. Meetings are open to guests and take place in Rooms 201/202. If you are interested in joining\, contact Chapter Chair John Groth or Treasurer Scott Calvert.
URL:https://www.stfrancisinthefields.org/events/brotherhood-of-st-andrew-meeting/2029-01-13/
CATEGORIES:Adult,Service
ATTACH;FMTTYPE=image/png:https://www.stfrancisinthefields.org/wp-content/uploads/2024/04/BOSA-Meetings-Website.png
END:VEVENT
BEGIN:VEVENT
DTSTART;TZID=America/Detroit:20290120T074500
DTEND;TZID=America/Detroit:20290120T090000
DTSTAMP:20260420T235812
CREATED:20240411T145556Z
LAST-MODIFIED:20240411T145627Z
UID:10002337-1863589500-1863594000@www.stfrancisinthefields.org
SUMMARY:Brotherhood of St. Andrew Meeting
DESCRIPTION:The St. Francis chapter of the Brotherhood of St. Andrew (BOSA) is a men’s group that meets regularly on Saturday mornings for breakfast\, Bible study\, and fellowship. Meetings are open to guests and take place in Rooms 201/202. If you are interested in joining\, contact Chapter Chair John Groth or Treasurer Scott Calvert.
URL:https://www.stfrancisinthefields.org/events/brotherhood-of-st-andrew-meeting/2029-01-20/
CATEGORIES:Adult,Service
ATTACH;FMTTYPE=image/png:https://www.stfrancisinthefields.org/wp-content/uploads/2024/04/BOSA-Meetings-Website.png
END:VEVENT
BEGIN:VEVENT
DTSTART;TZID=America/Detroit:20290127T074500
DTEND;TZID=America/Detroit:20290127T090000
DTSTAMP:20260420T235812
CREATED:20240411T145556Z
LAST-MODIFIED:20240411T145627Z
UID:10002338-1864194300-1864198800@www.stfrancisinthefields.org
SUMMARY:Brotherhood of St. Andrew Meeting
DESCRIPTION:The St. Francis chapter of the Brotherhood of St. Andrew (BOSA) is a men’s group that meets regularly on Saturday mornings for breakfast\, Bible study\, and fellowship. Meetings are open to guests and take place in Rooms 201/202. If you are interested in joining\, contact Chapter Chair John Groth or Treasurer Scott Calvert.
URL:https://www.stfrancisinthefields.org/events/brotherhood-of-st-andrew-meeting/2029-01-27/
CATEGORIES:Adult,Service
ATTACH;FMTTYPE=image/png:https://www.stfrancisinthefields.org/wp-content/uploads/2024/04/BOSA-Meetings-Website.png
END:VEVENT
END:VCALENDAR