BEGIN:VCALENDAR
VERSION:2.0
PRODID:-//St. Francis In The Fields - ECPv6.15.20//NONSGML v1.0//EN
CALSCALE:GREGORIAN
METHOD:PUBLISH
X-ORIGINAL-URL:https://www.stfrancisinthefields.org
X-WR-CALDESC:Events for St. Francis In The Fields
REFRESH-INTERVAL;VALUE=DURATION:PT1H
X-Robots-Tag:noindex
X-PUBLISHED-TTL:PT1H
BEGIN:VTIMEZONE
TZID:America/Detroit
BEGIN:DAYLIGHT
TZOFFSETFROM:-0500
TZOFFSETTO:-0400
TZNAME:EDT
DTSTART:20270314T070000
END:DAYLIGHT
BEGIN:STANDARD
TZOFFSETFROM:-0400
TZOFFSETTO:-0500
TZNAME:EST
DTSTART:20271107T060000
END:STANDARD
BEGIN:DAYLIGHT
TZOFFSETFROM:-0500
TZOFFSETTO:-0400
TZNAME:EDT
DTSTART:20280312T070000
END:DAYLIGHT
BEGIN:STANDARD
TZOFFSETFROM:-0400
TZOFFSETTO:-0500
TZNAME:EST
DTSTART:20281105T060000
END:STANDARD
BEGIN:DAYLIGHT
TZOFFSETFROM:-0500
TZOFFSETTO:-0400
TZNAME:EDT
DTSTART:20290311T070000
END:DAYLIGHT
BEGIN:STANDARD
TZOFFSETFROM:-0400
TZOFFSETTO:-0500
TZNAME:EST
DTSTART:20291104T060000
END:STANDARD
END:VTIMEZONE
BEGIN:VEVENT
DTSTART;TZID=America/Detroit:20281202T074500
DTEND;TZID=America/Detroit:20281202T090000
DTSTAMP:20260420T210530
CREATED:20240411T145556Z
LAST-MODIFIED:20240411T145627Z
UID:10002330-1859355900-1859360400@www.stfrancisinthefields.org
SUMMARY:Brotherhood of St. Andrew Meeting
DESCRIPTION:The St. Francis chapter of the Brotherhood of St. Andrew (BOSA) is a men’s group that meets regularly on Saturday mornings for breakfast\, Bible study\, and fellowship. Meetings are open to guests and take place in Rooms 201/202. If you are interested in joining\, contact Chapter Chair John Groth or Treasurer Scott Calvert.
URL:https://www.stfrancisinthefields.org/events/brotherhood-of-st-andrew-meeting/2028-12-02/
CATEGORIES:Adult,Service
ATTACH;FMTTYPE=image/png:https://www.stfrancisinthefields.org/wp-content/uploads/2024/04/BOSA-Meetings-Website.png
END:VEVENT
BEGIN:VEVENT
DTSTART;TZID=America/Detroit:20281209T074500
DTEND;TZID=America/Detroit:20281209T090000
DTSTAMP:20260420T210530
CREATED:20240411T145556Z
LAST-MODIFIED:20240411T145627Z
UID:10002331-1859960700-1859965200@www.stfrancisinthefields.org
SUMMARY:Brotherhood of St. Andrew Meeting
DESCRIPTION:The St. Francis chapter of the Brotherhood of St. Andrew (BOSA) is a men’s group that meets regularly on Saturday mornings for breakfast\, Bible study\, and fellowship. Meetings are open to guests and take place in Rooms 201/202. If you are interested in joining\, contact Chapter Chair John Groth or Treasurer Scott Calvert.
URL:https://www.stfrancisinthefields.org/events/brotherhood-of-st-andrew-meeting/2028-12-09/
CATEGORIES:Adult,Service
ATTACH;FMTTYPE=image/png:https://www.stfrancisinthefields.org/wp-content/uploads/2024/04/BOSA-Meetings-Website.png
END:VEVENT
BEGIN:VEVENT
DTSTART;TZID=America/Detroit:20281216T074500
DTEND;TZID=America/Detroit:20281216T090000
DTSTAMP:20260420T210530
CREATED:20240411T145556Z
LAST-MODIFIED:20240411T145627Z
UID:10002332-1860565500-1860570000@www.stfrancisinthefields.org
SUMMARY:Brotherhood of St. Andrew Meeting
DESCRIPTION:The St. Francis chapter of the Brotherhood of St. Andrew (BOSA) is a men’s group that meets regularly on Saturday mornings for breakfast\, Bible study\, and fellowship. Meetings are open to guests and take place in Rooms 201/202. If you are interested in joining\, contact Chapter Chair John Groth or Treasurer Scott Calvert.
URL:https://www.stfrancisinthefields.org/events/brotherhood-of-st-andrew-meeting/2028-12-16/
CATEGORIES:Adult,Service
ATTACH;FMTTYPE=image/png:https://www.stfrancisinthefields.org/wp-content/uploads/2024/04/BOSA-Meetings-Website.png
END:VEVENT
BEGIN:VEVENT
DTSTART;TZID=America/Detroit:20281223T074500
DTEND;TZID=America/Detroit:20281223T090000
DTSTAMP:20260420T210530
CREATED:20240411T145556Z
LAST-MODIFIED:20240411T145627Z
UID:10002333-1861170300-1861174800@www.stfrancisinthefields.org
SUMMARY:Brotherhood of St. Andrew Meeting
DESCRIPTION:The St. Francis chapter of the Brotherhood of St. Andrew (BOSA) is a men’s group that meets regularly on Saturday mornings for breakfast\, Bible study\, and fellowship. Meetings are open to guests and take place in Rooms 201/202. If you are interested in joining\, contact Chapter Chair John Groth or Treasurer Scott Calvert.
URL:https://www.stfrancisinthefields.org/events/brotherhood-of-st-andrew-meeting/2028-12-23/
CATEGORIES:Adult,Service
ATTACH;FMTTYPE=image/png:https://www.stfrancisinthefields.org/wp-content/uploads/2024/04/BOSA-Meetings-Website.png
END:VEVENT
BEGIN:VEVENT
DTSTART;TZID=America/Detroit:20281230T074500
DTEND;TZID=America/Detroit:20281230T090000
DTSTAMP:20260420T210530
CREATED:20240411T145556Z
LAST-MODIFIED:20240411T145627Z
UID:10002334-1861775100-1861779600@www.stfrancisinthefields.org
SUMMARY:Brotherhood of St. Andrew Meeting
DESCRIPTION:The St. Francis chapter of the Brotherhood of St. Andrew (BOSA) is a men’s group that meets regularly on Saturday mornings for breakfast\, Bible study\, and fellowship. Meetings are open to guests and take place in Rooms 201/202. If you are interested in joining\, contact Chapter Chair John Groth or Treasurer Scott Calvert.
URL:https://www.stfrancisinthefields.org/events/brotherhood-of-st-andrew-meeting/2028-12-30/
CATEGORIES:Adult,Service
ATTACH;FMTTYPE=image/png:https://www.stfrancisinthefields.org/wp-content/uploads/2024/04/BOSA-Meetings-Website.png
END:VEVENT
END:VCALENDAR